BEGIN:VCALENDAR
VERSION:2.0
PRODID:-//AudioTheme 2.3.8
BEGIN:VEVENT
UID:urn:uuid:bd80681a-9484-4cf0-aafc-5a42ca0731ef
URL:https://mitchmcvicker.com/concerts/gig-4855/
DTSTART;TZID=GMT:20231028T000000
SUMMARY:Living Room Coffee
LOCATION:Living Room Coffee\, 212 E Howard st\, Hibbing\, MN
END:VEVENT
END:VCALENDAR
