BEGIN:VCALENDAR
VERSION:2.0
PRODID:-//AudioTheme 2.3.8
BEGIN:VEVENT
UID:urn:uuid:844ac279-265a-41b3-8a67-421f3cfa60b4
URL:https://mitchmcvicker.com/concerts/gig-4853/
DTSTART;TZID=GMT:20230518T000000
SUMMARY:Mile High House Concert - OPEN TO PUBLIC
LOCATION:Mile High House Concert - OPEN TO PUBLIC\, 19409 E. Ithaca Place\, Aurora\, CO
END:VEVENT
END:VCALENDAR
