BEGIN:VCALENDAR
VERSION:2.0
PRODID:-//AudioTheme 2.3.8
BEGIN:VEVENT
UID:urn:uuid:8d623859-7109-4075-81dd-99bedf22dbfa
URL:https://mitchmcvicker.com/concerts/gig-4851/
DTSTART;TZID=GMT:20231112T233000
SUMMARY:The Shepherd's Fellowship
LOCATION:The Shepherd's Fellowship\, 1647 Marion Marysville Rd\, Marion\, OH
END:VEVENT
END:VCALENDAR
