BEGIN:VCALENDAR
VERSION:2.0
PRODID:-//AudioTheme 2.3.8
BEGIN:VEVENT
UID:urn:uuid:bd1b0699-1607-43c7-8d43-14a0f4ec8e4d
URL:https://mitchmcvicker.com/concerts/gig-485/
DTSTART;TZID=GMT:20181116T011500
SUMMARY:Woodlawn United Methodist Church
LOCATION:Woodlawn United Methodist Church\, 431 S. Woodlawn\, Derby\, KS
END:VEVENT
END:VCALENDAR
