BEGIN:VCALENDAR
VERSION:2.0
PRODID:-//AudioTheme 2.3.8
BEGIN:VEVENT
UID:urn:uuid:8a31e838-fff1-453d-b00a-0053353d4756
URL:https://mitchmcvicker.com/concerts/gig-4849/
DTSTART;TZID=GMT:20230726T230000
SUMMARY:Muskingum University Theatre
LOCATION:Muskingum University Theatre\, 163 Stormont St\, New Concord\, OH
END:VEVENT
END:VCALENDAR
