BEGIN:VCALENDAR
VERSION:2.0
PRODID:-//AudioTheme 2.3.8
BEGIN:VEVENT
UID:urn:uuid:42254dce-f6d7-44c7-aa42-f14c9a8961e6
URL:https://mitchmcvicker.com/concerts/gig-4847/
DTSTART;TZID=GMT:20230625T230000
SUMMARY:Renew Covenant Church
LOCATION:Renew Covenant Church\, 601 n main st\, Carroll\, IA
END:VEVENT
END:VCALENDAR
