BEGIN:VCALENDAR
VERSION:2.0
PRODID:-//AudioTheme 2.3.8
BEGIN:VEVENT
UID:urn:uuid:21eb320e-7c74-43a0-b399-a439bc8b2d78
URL:https://mitchmcvicker.com/concerts/gig-4840/
DTSTART;TZID=GMT:20231120T000000
SUMMARY:First Church of God
LOCATION:First Church of God\, 201 Freedom Lane\, Brookville\, PA
END:VEVENT
END:VCALENDAR
