BEGIN:VCALENDAR
VERSION:2.0
PRODID:-//AudioTheme 2.3.8
BEGIN:VEVENT
UID:urn:uuid:02965fc9-f424-4621-aefa-c73e64c75cbb
URL:https://mitchmcvicker.com/concerts/gig-4839/
DTSTART;TZID=GMT:20231114T000000
SUMMARY:Stonebridge Community Church
LOCATION:Stonebridge Community Church\, 105 E Green St\, Piqua\, OH
END:VEVENT
END:VCALENDAR
