BEGIN:VCALENDAR
VERSION:2.0
PRODID:-//AudioTheme 2.3.8
BEGIN:VEVENT
UID:urn:uuid:af506b02-f510-4b73-bc2e-9ffac1e90410
URL:https://mitchmcvicker.com/concerts/gig-4838/
DTSTART;TZID=GMT:20231027T000000
SUMMARY:Bethlehem Lutheran Church
LOCATION:Bethlehem Lutheran Church\, 2245 Hayden Ave\, Altoona\, WI
END:VEVENT
END:VCALENDAR
