BEGIN:VCALENDAR
VERSION:2.0
PRODID:-//AudioTheme 2.3.8
BEGIN:VEVENT
UID:urn:uuid:7442b186-9c7d-411e-88e4-423fe29eb3d8
URL:https://mitchmcvicker.com/concerts/gig-4835/
DTSTART;TZID=GMT:20231023T000000
SUMMARY:Lutheran Church of the Master
LOCATION:Lutheran Church of the Master\, 580 Kuhn Road\, Carol Stream\, IL
END:VEVENT
END:VCALENDAR
