BEGIN:VCALENDAR
VERSION:2.0
PRODID:-//AudioTheme 2.3.8
BEGIN:VEVENT
UID:urn:uuid:a1245ecd-c494-4cd4-8360-f80b7575db25
URL:https://mitchmcvicker.com/concerts/gig-4833/
DTSTART;TZID=GMT:20230727T230000
SUMMARY:Advent Lutheran Church
LOCATION:Advent Lutheran Church\, 45 Worthington Mill Rd\, Richboro\, PA\, USA\, 18954
END:VEVENT
END:VCALENDAR
