BEGIN:VCALENDAR
VERSION:2.0
PRODID:-//AudioTheme 2.3.8
BEGIN:VEVENT
UID:urn:uuid:f18432fa-7008-4613-bb6c-b563a02438e4
URL:https://mitchmcvicker.com/concerts/gig-4830/
DTSTART;TZID=GMT:20230719T000000
SUMMARY:Watered Gardens
LOCATION:Watered Gardens\, 531 Kentucky\, Joplin\, MO
END:VEVENT
END:VCALENDAR
