BEGIN:VCALENDAR
VERSION:2.0
PRODID:-//AudioTheme 2.3.8
BEGIN:VEVENT
UID:urn:uuid:a5ff0298-4046-4f4c-9c1f-742f272684d2
URL:https://mitchmcvicker.com/concerts/gig-483/
DTSTART;TZID=GMT:20181114T011500
SUMMARY:Immanuel Lutheran Church
LOCATION:Immanuel Lutheran Church\, 2109 W. Ave. H\, Temple\, TX
END:VEVENT
END:VCALENDAR
