BEGIN:VCALENDAR
VERSION:2.0
PRODID:-//AudioTheme 2.3.8
BEGIN:VEVENT
UID:urn:uuid:d09a1962-3f4f-4bab-8848-ec98352ed851
URL:https://mitchmcvicker.com/concerts/gig-4822/
DTSTART;TZID=GMT:20231117T000000
SUMMARY:House Concert - Open to Public
LOCATION:House Concert - Open to Public\, 721 W. Spencer Ave.\, Marion\, IN
END:VEVENT
END:VCALENDAR
