BEGIN:VCALENDAR
VERSION:2.0
PRODID:-//AudioTheme 2.3.8
BEGIN:VEVENT
UID:urn:uuid:a73f4dbe-36fa-4953-9e54-f48c925ba67c
URL:https://mitchmcvicker.com/concerts/gig-4819/
DTSTART;TZID=GMT:20230622T000000
SUMMARY:Cup of Cold Water Ministries
LOCATION:Cup of Cold Water Ministries\, 2580 N 3653rd Rd.\, Sheridan\, IL\, 60551
END:VEVENT
END:VCALENDAR
