BEGIN:VCALENDAR
VERSION:2.0
PRODID:-//AudioTheme 2.3.8
BEGIN:VEVENT
UID:urn:uuid:3a879e00-4e61-4c56-8439-4ad89735c7db
URL:https://mitchmcvicker.com/concerts/gig-4818/
DTSTART;TZID=GMT:20230620T230000
SUMMARY:Community Fellowship Church
LOCATION:Community Fellowship Church\, 1051 N Jackson Pike\, Union City\, IN
END:VEVENT
END:VCALENDAR
