BEGIN:VCALENDAR
VERSION:2.0
PRODID:-//AudioTheme 2.3.8
BEGIN:VEVENT
UID:urn:uuid:6a1c54ae-6561-4627-a869-4b13a333f325
URL:https://mitchmcvicker.com/concerts/gig-4817/
DTSTART;TZID=GMT:20230605T003000
SUMMARY:Connection Church
LOCATION:Connection Church\, 2938 North Ave.\, Grand Junction\, CO\, USA
END:VEVENT
END:VCALENDAR
