BEGIN:VCALENDAR
VERSION:2.0
PRODID:-//AudioTheme 2.3.8
BEGIN:VEVENT
UID:urn:uuid:4e0c4d7f-d1e1-43be-90c1-2a02c1643a4a
URL:https://mitchmcvicker.com/concerts/gig-4810/
DTSTART;TZID=GMT:20230723T230000
SUMMARY:Levant Community Church
LOCATION:Levant Community Church\, 205 First Street\, Levant\, KS
END:VEVENT
END:VCALENDAR
