BEGIN:VCALENDAR
VERSION:2.0
PRODID:-//AudioTheme 2.3.8
BEGIN:VEVENT
UID:urn:uuid:3f3af1bf-5445-4cde-9bce-89db7238856b
URL:https://mitchmcvicker.com/concerts/gig-4808/
DTSTART;TZID=GMT:20230721T010000
SUMMARY:Covenant Presbyterian
LOCATION:Covenant Presbyterian\, 2845 Parliament Drive\, Colorado Springs\, CO
END:VEVENT
END:VCALENDAR
