BEGIN:VCALENDAR
VERSION:2.0
PRODID:-//AudioTheme 2.3.8
BEGIN:VEVENT
UID:urn:uuid:fefd5cb7-c120-4b8a-9ec7-4277d7bfff22
URL:https://mitchmcvicker.com/concerts/gig-4806/
DTSTART;TZID=GMT:20230624T000000
SUMMARY:Lutheran Church of Peace
LOCATION:Lutheran Church of Peace\, 1345 North Water Street\, Platteville\, WI
END:VEVENT
END:VCALENDAR
