BEGIN:VCALENDAR
VERSION:2.0
PRODID:-//AudioTheme 2.3.8
BEGIN:VEVENT
UID:urn:uuid:e4e914af-1217-4182-9f33-5f1e1410ee4a
URL:https://mitchmcvicker.com/concerts/gig-4805/
DTSTART;TZID=GMT:20231025T000000
SUMMARY:Countryside Church
LOCATION:Countryside Church\, 301 Green St\, Merrillan\, WI
END:VEVENT
END:VCALENDAR
