BEGIN:VCALENDAR
VERSION:2.0
PRODID:-//AudioTheme 2.3.8
BEGIN:VEVENT
UID:urn:uuid:2b5d3206-d5f8-4dfc-9909-9aae285be3cb
URL:https://mitchmcvicker.com/concerts/gig-4794/
DTSTART;TZID=GMT:20231119T000000
SUMMARY:Grace Missionary Church
LOCATION:Grace Missionary Church\, 510 Portland Street\, Celina\, OH
END:VEVENT
END:VCALENDAR
