BEGIN:VCALENDAR
VERSION:2.0
PRODID:-//AudioTheme 2.3.8
BEGIN:VEVENT
UID:urn:uuid:58ac84c0-ff20-4c31-acb3-7b500c231a0c
URL:https://mitchmcvicker.com/concerts/gig-4792/
DTSTART;TZID=GMT:20230524T000000
SUMMARY:Mount Calvary Evangelical Lutheran Church
LOCATION:Mount Calvary Evangelical Lutheran Church\, 308 Mount Calvary Drive\, San Antonio\, TX
END:VEVENT
END:VCALENDAR
