BEGIN:VCALENDAR
VERSION:2.0
PRODID:-//AudioTheme 2.3.8
BEGIN:VEVENT
UID:urn:uuid:5ed0d2de-4651-4c77-8486-a4e670f71f17
URL:https://mitchmcvicker.com/concerts/gig-479/
DTSTART;TZID=GMT:20181029T003000
SUMMARY:Restoration Church
LOCATION:Restoration Church\, 225 East Idaho\, Suite 24\, Las Cruces\, NM
END:VEVENT
END:VCALENDAR
