BEGIN:VCALENDAR
VERSION:2.0
PRODID:-//AudioTheme 2.3.8
BEGIN:VEVENT
UID:urn:uuid:c74ec1da-fbad-4be5-9413-5af9cb62a14b
URL:https://mitchmcvicker.com/concerts/gig-4789/
DTSTART;TZID=GMT:20230522T003000
SUMMARY:First Baptist Church Cloudcroft
LOCATION:First Baptist Church Cloudcroft\, 106 Burro Ave.\, Cloudcroft\, NM
END:VEVENT
END:VCALENDAR
