BEGIN:VCALENDAR
VERSION:2.0
PRODID:-//AudioTheme 2.3.8
BEGIN:VEVENT
UID:urn:uuid:b416ca19-8b2d-4dcc-8ef9-784002c60178
URL:https://mitchmcvicker.com/concerts/gig-477/
DTSTART;TZID=GMT:20181028T011500
SUMMARY:Community Bible Church
LOCATION:Community Bible Church\, Route 254 (tse Bonito\, NM)\, Window Rock\, AZ
END:VEVENT
END:VCALENDAR
