BEGIN:VCALENDAR
VERSION:2.0
PRODID:-//AudioTheme 2.3.8
BEGIN:VEVENT
UID:urn:uuid:c709735e-3e91-4ce5-998e-bc305bffd5ae
URL:https://mitchmcvicker.com/concerts/gig-475/
DTSTART;TZID=GMT:20181014T233000
SUMMARY:Cornerstone Christian Church
LOCATION:Cornerstone Christian Church\, 3600 S. Banker Street\, Effingham\, IL
END:VEVENT
END:VCALENDAR
