BEGIN:VCALENDAR
VERSION:2.0
PRODID:-//AudioTheme 2.3.8
BEGIN:VEVENT
UID:urn:uuid:2df138c5-dd1c-4631-8d9e-019c6fe1067e
URL:https://mitchmcvicker.com/concerts/gig-473/
DTSTART;TZID=GMT:20181012T000000
SUMMARY:Northwest Christian Church
LOCATION:Northwest Christian Church\, 714 Benson Street\, Council Bluffs\, IA
END:VEVENT
END:VCALENDAR
