BEGIN:VCALENDAR
VERSION:2.0
PRODID:-//AudioTheme 2.3.8
BEGIN:VEVENT
UID:urn:uuid:fa9582f7-6d70-4349-b1f5-df17e67cdb93
URL:https://mitchmcvicker.com/concerts/gig-471/
DTSTART;TZID=GMT:20181007T170000
SUMMARY:Liberty Park Pavilion
LOCATION:Liberty Park Pavilion\, 716 S. Park Ave.\, Batesville\, IN
END:VEVENT
END:VCALENDAR
