BEGIN:VCALENDAR
VERSION:2.0
PRODID:-//AudioTheme 2.3.8
BEGIN:VEVENT
UID:urn:uuid:d8eef9ea-18bc-4994-94fa-97ee8bfd9372
URL:https://mitchmcvicker.com/concerts/gig-468/
DTSTART;TZID=GMT:20180923T220000
SUMMARY:Smyrna Baptist Church
LOCATION:Smyrna Baptist Church\, 2475 West CR 700 South\, Spiceland\, IN
END:VEVENT
END:VCALENDAR
