BEGIN:VCALENDAR
VERSION:2.0
PRODID:-//AudioTheme 2.3.8
BEGIN:VEVENT
UID:urn:uuid:11253219-79ce-46e5-b394-7a69382aca65
URL:https://mitchmcvicker.com/concerts/gig-4666/
DTSTART;TZID=GMT:20230922T000000
SUMMARY:TO BE RESCHEDULED -Twisted Barley Brewing Company
LOCATION:TO BE RESCHEDULED -Twisted Barley Brewing Company\, Jasper\, AL
END:VEVENT
END:VCALENDAR
