BEGIN:VCALENDAR
VERSION:2.0
PRODID:-//AudioTheme 2.3.8
BEGIN:VEVENT
UID:urn:uuid:8fc38a26-b7d8-465d-8b43-604c6e2a1a44
URL:https://mitchmcvicker.com/concerts/gig-4664/
DTSTART;TZID=GMT:20230729T170000
SUMMARY:Athens Fairgrounds - Benefit for New Hope Women's Shelter - Open to Public
LOCATION:Athens Fairgrounds - Benefit for New Hope Women's Shelter - Open to Public\, Athens\, ME
END:VEVENT
END:VCALENDAR
