BEGIN:VCALENDAR
VERSION:2.0
PRODID:-//AudioTheme 2.3.8
BEGIN:VEVENT
UID:urn:uuid:44b8b226-e8e8-40e8-b99c-e5da14da94bc
URL:https://mitchmcvicker.com/concerts/gig-4663/
DTSTART;TZID=GMT:20230720T000000
SUMMARY:Hope Community Church
LOCATION:Hope Community Church\, 1831 E 21st St\, Andover\, KS
END:VEVENT
END:VCALENDAR
