BEGIN:VCALENDAR
VERSION:2.0
PRODID:-//AudioTheme 2.3.8
BEGIN:VEVENT
UID:urn:uuid:4ffce372-d2d6-480f-9008-e32bdfd65ede
URL:https://mitchmcvicker.com/concerts/gig-4661/
DTSTART;TZID=GMT:20230919T000000
SUMMARY:St. John's Lutheran Church
LOCATION:St. John's Lutheran Church\, 22186 State Highway B\, Westboro\, MO
END:VEVENT
END:VCALENDAR
