BEGIN:VCALENDAR
VERSION:2.0
PRODID:-//AudioTheme 2.3.8
BEGIN:VEVENT
UID:urn:uuid:7c93088e-6fe5-4b17-866f-ca5ddbe9e5aa
URL:https://mitchmcvicker.com/concerts/gig-466/
DTSTART;TZID=GMT:20180923T140000
SUMMARY:Salem-Cass United Methodist Church
LOCATION:Salem-Cass United Methodist Church\, 4699 CR 236\, Findlay\, OH
END:VEVENT
END:VCALENDAR
