BEGIN:VCALENDAR
VERSION:2.0
PRODID:-//AudioTheme 2.3.8
BEGIN:VEVENT
UID:urn:uuid:3217a73d-76f1-43a7-9adf-33ed8d6f2505
URL:https://mitchmcvicker.com/concerts/gig-4659/
DTSTART;TZID=GMT:20230920T000000
SUMMARY:Lifespring Community Church
LOCATION:Lifespring Community Church\, 1615 Thoele Road\, St. Peters\, MO\, USA
END:VEVENT
END:VCALENDAR
