BEGIN:VCALENDAR
VERSION:2.0
PRODID:-//AudioTheme 2.3.8
BEGIN:VEVENT
UID:urn:uuid:bd188122-ed9d-4c0a-8396-db1894a118f3
URL:https://mitchmcvicker.com/concerts/gig-4649/
DTSTART;TZID=GMT:20230521T010000
SUMMARY:Vineyard Community Church
LOCATION:Vineyard Community Church\, 601 S Cooper Rd.\, Gilbert\, AZ
END:VEVENT
END:VCALENDAR
