BEGIN:VCALENDAR
VERSION:2.0
PRODID:-//AudioTheme 2.3.8
BEGIN:VEVENT
UID:urn:uuid:6f0d1823-9207-4b97-b6d1-29647b06a914
URL:https://mitchmcvicker.com/concerts/gig-4641/
DTSTART;TZID=GMT:20231118T000000
SUMMARY:His Church Anglican
LOCATION:His Church Anglican\, 34500 Six Mile Road\, Livonia\, MI\, United States\, 48152
END:VEVENT
END:VCALENDAR
