BEGIN:VCALENDAR
VERSION:2.0
PRODID:-//AudioTheme 2.3.8
BEGIN:VEVENT
UID:urn:uuid:cd16eaeb-244f-4c15-9e2a-3c4a98dad97e
URL:https://mitchmcvicker.com/concerts/gig-464/
DTSTART;TZID=GMT:20180922T230000
SUMMARY:Whitewater Christian Church
LOCATION:Whitewater Christian Church\, 7918 IN-227\, Richmond\, Indiana
END:VEVENT
END:VCALENDAR
