BEGIN:VCALENDAR
VERSION:2.0
PRODID:-//AudioTheme 2.3.8
BEGIN:VEVENT
UID:urn:uuid:a062097f-ceeb-499e-b13c-ed756dbee79f
URL:https://mitchmcvicker.com/concerts/gig-4635/
DTSTART;TZID=GMT:20230723T010000
SUMMARY:The Foote Rest
LOCATION:The Foote Rest\, Call for Information\, Denver\, CO
END:VEVENT
END:VCALENDAR
