BEGIN:VCALENDAR
VERSION:2.0
PRODID:-//AudioTheme 2.3.8
BEGIN:VEVENT
UID:urn:uuid:7fc5793a-7583-4069-a13a-bb565af19820
URL:https://mitchmcvicker.com/concerts/gig-4634/
DTSTART;TZID=GMT:20230722T010000
SUMMARY:Vineyard Longmont Church
LOCATION:Vineyard Longmont Church\, 1312 Main Street\, Longmont\, CO
END:VEVENT
END:VCALENDAR
