BEGIN:VCALENDAR
VERSION:2.0
PRODID:-//AudioTheme 2.3.8
BEGIN:VEVENT
UID:urn:uuid:fde1b944-9af0-49d3-802f-6434b4fc424e
URL:https://mitchmcvicker.com/concerts/gig-4632/
DTSTART;TZID=GMT:20230625T150000
SUMMARY:Carroll First Church
LOCATION:Carroll First Church\, 18632 Highway 71\, Carroll\, IA
END:VEVENT
END:VCALENDAR
