BEGIN:VCALENDAR
VERSION:2.0
PRODID:-//AudioTheme 2.3.8
BEGIN:VEVENT
UID:urn:uuid:a436685a-0b57-4cf2-b0aa-059f7cbf2044
URL:https://mitchmcvicker.com/concerts/gig-4630/
DTSTART;TZID=GMT:20230623T000000
SUMMARY:Swan Park Band Shell - Hosted by St. Mark's Episcopal
LOCATION:Swan Park Band Shell - Hosted by St. Mark's Episcopal\, 400 S. University Ave.\, Beaver Dam\, WI
END:VEVENT
END:VCALENDAR
