BEGIN:VCALENDAR
VERSION:2.0
PRODID:-//AudioTheme 2.3.8
BEGIN:VEVENT
UID:urn:uuid:48346cc3-53ad-4199-b743-20d687db9789
URL:https://mitchmcvicker.com/concerts/gig-4628/
DTSTART;TZID=GMT:20230602T000000
SUMMARY:POSTPONED
LOCATION:POSTPONED\, POSTPONED Valley Center\, KS\, 67147
END:VEVENT
END:VCALENDAR
