BEGIN:VCALENDAR
VERSION:2.0
PRODID:-//AudioTheme 2.3.8
BEGIN:VEVENT
UID:urn:uuid:9050e83f-09e4-4736-91c4-135a2ce6158a
URL:https://mitchmcvicker.com/concerts/gig-4623/
DTSTART;TZID=GMT:20230525T000000
SUMMARY:PRIVATE EVENT
LOCATION:PRIVATE EVENT\, Longview\, TX
END:VEVENT
END:VCALENDAR
