BEGIN:VCALENDAR
VERSION:2.0
PRODID:-//AudioTheme 2.3.8
BEGIN:VEVENT
UID:urn:uuid:d6e4822c-d2af-4ce8-9f5a-defa9a7ffebd
URL:https://mitchmcvicker.com/concerts/gig-4622/
DTSTART;TZID=GMT:20230427T230000
SUMMARY:Linesville Presbyterian Church
LOCATION:Linesville Presbyterian Church\, 202 W. Erie St.\, Linesville\, PA
END:VEVENT
END:VCALENDAR
