BEGIN:VCALENDAR
VERSION:2.0
PRODID:-//AudioTheme 2.3.8
BEGIN:VEVENT
UID:urn:uuid:3e0f7cb8-eaf5-49b2-816e-3121d8b81212
URL:https://mitchmcvicker.com/concerts/gig-4620/
DTSTART;TZID=GMT:20230426T230000
SUMMARY:Jerusalem Christian Church
LOCATION:Jerusalem Christian Church\, 560 Donation Road\, Greenville\, PA
END:VEVENT
END:VCALENDAR
