BEGIN:VCALENDAR
VERSION:2.0
PRODID:-//AudioTheme 2.3.8
BEGIN:VEVENT
UID:urn:uuid:358a635a-a70a-48d8-973d-1fae8244fc4e
URL:https://mitchmcvicker.com/concerts/gig-462/
DTSTART;TZID=GMT:20180921T231500
SUMMARY:POSTPONED Riverside Christian Church
LOCATION:POSTPONED Riverside Christian Church\, 15413 State Route 49\, POSTPONED Antwerp\, OH
END:VEVENT
END:VCALENDAR
