BEGIN:VCALENDAR
VERSION:2.0
PRODID:-//AudioTheme 2.3.8
BEGIN:VEVENT
UID:urn:uuid:67f50408-4cbe-4711-a8ef-e1d853ae6d36
URL:https://mitchmcvicker.com/concerts/gig-4618/
DTSTART;TZID=GMT:20230303T010000
SUMMARY:Wylie Christian Church
LOCATION:Wylie Christian Church\, 6250 Buffalo Gap Rd.\, Abilene\, TX
END:VEVENT
END:VCALENDAR
