BEGIN:VCALENDAR
VERSION:2.0
PRODID:-//AudioTheme 2.3.8
BEGIN:VEVENT
UID:urn:uuid:0d034501-40e6-4eb9-93f8-73d4996618c7
URL:https://mitchmcvicker.com/concerts/gig-4607/
DTSTART;TZID=GMT:20230520T020000
SUMMARY:American Lutheran Church
LOCATION:American Lutheran Church\, 1085 Scott Dr.\, Prescott\, AZ
END:VEVENT
END:VCALENDAR
